BEGIN:VCALENDAR
VERSION:2.0
PRODID:-//wp-events-plugin.com//7.2.3.1//EN
BEGIN:VEVENT
UID:29@rife.bg
DTSTART:20230707T190000Z
DTEND:20230707T190000Z
DTSTAMP:20230625T112410Z
URL:https://rife.bg/bg/events/cry-of-the-glossy/
SUMMARY:CRY OF THE GLOSSY
DESCRIPTION:\n[trp_language language="en_US"]\nTaking us on a journey throu
 gh the forested hills of the NSW Southern Highlands (Australia)\, poet and
  Gunai woman\, Kirli Saunders (OAM)\, reflects on the special place the en
 dangered Glossy Black Cockatoo holds in her heart and culture.\n&nbsp\;\nA
 ustralia\, 2022\, 10 min.\, English with English and Bulgarian subtitles\n
 &nbsp\;\nScript: Tim Brown &amp\; Michael Portway\nDirectors: Tim Brown &a
 mp\; Michael Portway\nCinematography:  Tim Brown &amp\; Michael Portway\n
 Production: Grassland Films\n&nbsp\;\nDirector’s Biography: \nTim Brown 
 is an award-winning ecologist-turned-filmmaker. He is passionate about com
 bining his love of the environment with filmmaking to create positive chan
 ge for the natural world.\nMichael Portway is an acclaimed Melbourne-based
  filmmaker. His directorial work has been screened at local and internatio
 nal festivals\, including the Berlinale and the Melbourne International Fi
 lm Festival.\n[/trp_language]\n\n\n\n[trp_language language="bg_BG"]\nПо
 етесата от племето гунай\, Кирли Сондърс 
 (OAM)\, ни отвежда на пътешествие из горист
 ите  хълмове на Южните възвишения на Нов
  Южен Уелс (Австралия)\, размишлявайки за 
 специалното място на застрашеното от из
 чезване лъскаво черно Какаду\, което зае
 ма специално място в сърцето и културата
  й.\n&nbsp\;\nАвстралия\, 2022 г.\, 10 мин.\, английс
 ки с английски и български субтитри\n&nbsp\;
 \nСценаристи: Тим Браун и Майкъл Портуей\n
 Режисьори: Тим Браун и Майкъл Портуей\nОп
 ератори: Тим Браун и Майкъл Портуей\nПрод
 укция: Grassland Films\n&nbsp\;\nБиография на режись
 орите:\nТим  Браун  е  награждаван  екол
 ог\,  превърнал  се  в  режисьор.  Той  с
 трастно съчетава своята любов към околн
 ата среда с филмовото изкуство\, за да съ
 здаде положителна промяна за света на пр
 иродата.\nМайкъл Портуей е признат режис
 ьор от Мелбърн. Режисьорската му работа 
 е показвана на местни и международни фес
 тивали\, включително Берлинале и филмови
 я фестивал в Мелбърн.\n[/trp_language]
ATTACH;FMTTYPE=image/jpeg:https://rife.bg/wp-content/uploads/2023/05/Cry_o
 f_Glossy.png
CATEGORIES:Shorts 2023
LOCATION:The Library\, Ditcho Petrov 7\, Smolyan\, България
X-APPLE-STRUCTURED-LOCATION;VALUE=URI;X-ADDRESS=Ditcho Petrov 7\, Smolyan\,
  България;X-APPLE-RADIUS=100;X-TITLE=The Library:geo:0,0
END:VEVENT
END:VCALENDAR